BEGIN:VCALENDAR
VERSION:2.0
PRODID:-//Stichting Focusing Nederland - ECPv6.15.13//NONSGML v1.0//EN
CALSCALE:GREGORIAN
METHOD:PUBLISH
X-WR-CALNAME:Stichting Focusing Nederland
X-ORIGINAL-URL:https://www.stichtingfocusing.nl
X-WR-CALDESC:Evenementen voor Stichting Focusing Nederland
REFRESH-INTERVAL;VALUE=DURATION:PT1H
X-Robots-Tag:noindex
X-PUBLISHED-TTL:PT1H
BEGIN:VTIMEZONE
TZID:Europe/Amsterdam
BEGIN:DAYLIGHT
TZOFFSETFROM:+0100
TZOFFSETTO:+0200
TZNAME:CEST
DTSTART:20240331T010000
END:DAYLIGHT
BEGIN:STANDARD
TZOFFSETFROM:+0200
TZOFFSETTO:+0100
TZNAME:CET
DTSTART:20241027T010000
END:STANDARD
BEGIN:DAYLIGHT
TZOFFSETFROM:+0100
TZOFFSETTO:+0200
TZNAME:CEST
DTSTART:20250330T010000
END:DAYLIGHT
BEGIN:STANDARD
TZOFFSETFROM:+0200
TZOFFSETTO:+0100
TZNAME:CET
DTSTART:20251026T010000
END:STANDARD
BEGIN:DAYLIGHT
TZOFFSETFROM:+0100
TZOFFSETTO:+0200
TZNAME:CEST
DTSTART:20260329T010000
END:DAYLIGHT
BEGIN:STANDARD
TZOFFSETFROM:+0200
TZOFFSETTO:+0100
TZNAME:CET
DTSTART:20261025T010000
END:STANDARD
BEGIN:DAYLIGHT
TZOFFSETFROM:+0100
TZOFFSETTO:+0200
TZNAME:CEST
DTSTART:20270328T010000
END:DAYLIGHT
BEGIN:STANDARD
TZOFFSETFROM:+0200
TZOFFSETTO:+0100
TZNAME:CET
DTSTART:20271031T010000
END:STANDARD
END:VTIMEZONE
BEGIN:VEVENT
DTSTART;TZID=Europe/Amsterdam:20260403T093000
DTEND;TZID=Europe/Amsterdam:20260403T130000
DTSTAMP:20260422T030728
CREATED:20240814T134437Z
LAST-MODIFIED:20260105T201454Z
UID:10001422-1775208600-1775221200@www.stichtingfocusing.nl
SUMMARY:Duocursus Focussen voor professionele hulpverleners
DESCRIPTION:In deze compacte\, intensieve duocursus Focusing (2 deelnemers) leer je zelf Focussen en krijg je vele handvatten om het toe te passen binnen je werk als professioneel hulpverlener of begeleider. \nDe cursus bied een helder theoretisch kader en vele praktische oefeningen die in de cursusmap en het ondersteunend boek zijn terug te vinden.  Na afsluiting van de cursus ontvang je een certificaat.\nJe oefent alleen\, met je medecursist(e) en desgewenst met cliënten.\nHet geheel beslaat 4 dagdelen verspreid over 4 maanden. Data zijn in overleg op vrijdagen of maandagochtenden. \nVoorwaarde voor deelname is een individuele proefsessie\, live of via beeldbellen. \nVoor meer informatie: mail naar info@sentir.nl \nMarion van den Boogaard\, Certificerend Coordinator TIFI\, Psychologiepraktijk Sentir\, info@sentir\, www.sentir.nl
URL:https://www.stichtingfocusing.nl/aanbod-item/duocursus-focussen-voor-professionele-hulpverleners/2026-04-03/
LOCATION:Nederland\, Nederland
CATEGORIES:Training voor specifieke groepen
ATTACH;FMTTYPE=image/png:https://www.stichtingfocusing.nl/wp-content/uploads/2024/08/Psychologiepraktijk-Sentir-1.png
ORGANIZER;CN="Marion van den Boogaard":MAILTO:info@sentir.nl
GEO:52.0263009;5.5544309
END:VEVENT
BEGIN:VEVENT
DTSTART;TZID=Europe/Amsterdam:20260306T093000
DTEND;TZID=Europe/Amsterdam:20260306T130000
DTSTAMP:20260422T030728
CREATED:20240814T134437Z
LAST-MODIFIED:20260105T201454Z
UID:10001421-1772789400-1772802000@www.stichtingfocusing.nl
SUMMARY:Duocursus Focussen voor professionele hulpverleners
DESCRIPTION:In deze compacte\, intensieve duocursus Focusing (2 deelnemers) leer je zelf Focussen en krijg je vele handvatten om het toe te passen binnen je werk als professioneel hulpverlener of begeleider. \nDe cursus bied een helder theoretisch kader en vele praktische oefeningen die in de cursusmap en het ondersteunend boek zijn terug te vinden.  Na afsluiting van de cursus ontvang je een certificaat.\nJe oefent alleen\, met je medecursist(e) en desgewenst met cliënten.\nHet geheel beslaat 4 dagdelen verspreid over 4 maanden. Data zijn in overleg op vrijdagen of maandagochtenden. \nVoorwaarde voor deelname is een individuele proefsessie\, live of via beeldbellen. \nVoor meer informatie: mail naar info@sentir.nl \nMarion van den Boogaard\, Certificerend Coordinator TIFI\, Psychologiepraktijk Sentir\, info@sentir\, www.sentir.nl
URL:https://www.stichtingfocusing.nl/aanbod-item/duocursus-focussen-voor-professionele-hulpverleners/2026-03-06/
LOCATION:Nederland\, Nederland
CATEGORIES:Training voor specifieke groepen
ATTACH;FMTTYPE=image/png:https://www.stichtingfocusing.nl/wp-content/uploads/2024/08/Psychologiepraktijk-Sentir-1.png
ORGANIZER;CN="Marion van den Boogaard":MAILTO:info@sentir.nl
GEO:52.0263009;5.5544309
END:VEVENT
BEGIN:VEVENT
DTSTART;TZID=Europe/Amsterdam:20260206T093000
DTEND;TZID=Europe/Amsterdam:20260206T130000
DTSTAMP:20260422T030728
CREATED:20240814T134437Z
LAST-MODIFIED:20260105T201454Z
UID:10001420-1770370200-1770382800@www.stichtingfocusing.nl
SUMMARY:Duocursus Focussen voor professionele hulpverleners
DESCRIPTION:In deze compacte\, intensieve duocursus Focusing (2 deelnemers) leer je zelf Focussen en krijg je vele handvatten om het toe te passen binnen je werk als professioneel hulpverlener of begeleider. \nDe cursus bied een helder theoretisch kader en vele praktische oefeningen die in de cursusmap en het ondersteunend boek zijn terug te vinden.  Na afsluiting van de cursus ontvang je een certificaat.\nJe oefent alleen\, met je medecursist(e) en desgewenst met cliënten.\nHet geheel beslaat 4 dagdelen verspreid over 4 maanden. Data zijn in overleg op vrijdagen of maandagochtenden. \nVoorwaarde voor deelname is een individuele proefsessie\, live of via beeldbellen. \nVoor meer informatie: mail naar info@sentir.nl \nMarion van den Boogaard\, Certificerend Coordinator TIFI\, Psychologiepraktijk Sentir\, info@sentir\, www.sentir.nl
URL:https://www.stichtingfocusing.nl/aanbod-item/duocursus-focussen-voor-professionele-hulpverleners/2026-02-06/
LOCATION:Nederland\, Nederland
CATEGORIES:Training voor specifieke groepen
ATTACH;FMTTYPE=image/png:https://www.stichtingfocusing.nl/wp-content/uploads/2024/08/Psychologiepraktijk-Sentir-1.png
ORGANIZER;CN="Marion van den Boogaard":MAILTO:info@sentir.nl
GEO:52.0263009;5.5544309
END:VEVENT
BEGIN:VEVENT
DTSTART;TZID=Europe/Amsterdam:20260102T093000
DTEND;TZID=Europe/Amsterdam:20260102T130000
DTSTAMP:20260422T030728
CREATED:20240814T134437Z
LAST-MODIFIED:20260105T201454Z
UID:10001419-1767346200-1767358800@www.stichtingfocusing.nl
SUMMARY:Duocursus Focussen voor professionele hulpverleners
DESCRIPTION:In deze compacte\, intensieve duocursus Focusing (2 deelnemers) leer je zelf Focussen en krijg je vele handvatten om het toe te passen binnen je werk als professioneel hulpverlener of begeleider. \nDe cursus bied een helder theoretisch kader en vele praktische oefeningen die in de cursusmap en het ondersteunend boek zijn terug te vinden.  Na afsluiting van de cursus ontvang je een certificaat.\nJe oefent alleen\, met je medecursist(e) en desgewenst met cliënten.\nHet geheel beslaat 4 dagdelen verspreid over 4 maanden. Data zijn in overleg op vrijdagen of maandagochtenden. \nVoorwaarde voor deelname is een individuele proefsessie\, live of via beeldbellen. \nVoor meer informatie: mail naar info@sentir.nl \nMarion van den Boogaard\, Certificerend Coordinator TIFI\, Psychologiepraktijk Sentir\, info@sentir\, www.sentir.nl
URL:https://www.stichtingfocusing.nl/aanbod-item/duocursus-focussen-voor-professionele-hulpverleners/2026-01-02/
LOCATION:Nederland\, Nederland
CATEGORIES:Training voor specifieke groepen
ATTACH;FMTTYPE=image/png:https://www.stichtingfocusing.nl/wp-content/uploads/2024/08/Psychologiepraktijk-Sentir-1.png
ORGANIZER;CN="Marion van den Boogaard":MAILTO:info@sentir.nl
GEO:52.0263009;5.5544309
END:VEVENT
BEGIN:VEVENT
DTSTART;TZID=Europe/Amsterdam:20251205T093000
DTEND;TZID=Europe/Amsterdam:20251205T130000
DTSTAMP:20260422T030728
CREATED:20240814T134437Z
LAST-MODIFIED:20260105T201454Z
UID:10001418-1764927000-1764939600@www.stichtingfocusing.nl
SUMMARY:Duocursus Focussen voor professionele hulpverleners
DESCRIPTION:In deze compacte\, intensieve duocursus Focusing (2 deelnemers) leer je zelf Focussen en krijg je vele handvatten om het toe te passen binnen je werk als professioneel hulpverlener of begeleider. \nDe cursus bied een helder theoretisch kader en vele praktische oefeningen die in de cursusmap en het ondersteunend boek zijn terug te vinden.  Na afsluiting van de cursus ontvang je een certificaat.\nJe oefent alleen\, met je medecursist(e) en desgewenst met cliënten.\nHet geheel beslaat 4 dagdelen verspreid over 4 maanden. Data zijn in overleg op vrijdagen of maandagochtenden. \nVoorwaarde voor deelname is een individuele proefsessie\, live of via beeldbellen. \nVoor meer informatie: mail naar info@sentir.nl \nMarion van den Boogaard\, Certificerend Coordinator TIFI\, Psychologiepraktijk Sentir\, info@sentir\, www.sentir.nl
URL:https://www.stichtingfocusing.nl/aanbod-item/duocursus-focussen-voor-professionele-hulpverleners/2025-12-05/
LOCATION:Nederland\, Nederland
CATEGORIES:Training voor specifieke groepen
ATTACH;FMTTYPE=image/png:https://www.stichtingfocusing.nl/wp-content/uploads/2024/08/Psychologiepraktijk-Sentir-1.png
ORGANIZER;CN="Marion van den Boogaard":MAILTO:info@sentir.nl
GEO:52.0263009;5.5544309
END:VEVENT
BEGIN:VEVENT
DTSTART;TZID=Europe/Amsterdam:20251107T093000
DTEND;TZID=Europe/Amsterdam:20251107T130000
DTSTAMP:20260422T030728
CREATED:20240814T134437Z
LAST-MODIFIED:20260105T201454Z
UID:10001417-1762507800-1762520400@www.stichtingfocusing.nl
SUMMARY:Duocursus Focussen voor professionele hulpverleners
DESCRIPTION:In deze compacte\, intensieve duocursus Focusing (2 deelnemers) leer je zelf Focussen en krijg je vele handvatten om het toe te passen binnen je werk als professioneel hulpverlener of begeleider. \nDe cursus bied een helder theoretisch kader en vele praktische oefeningen die in de cursusmap en het ondersteunend boek zijn terug te vinden.  Na afsluiting van de cursus ontvang je een certificaat.\nJe oefent alleen\, met je medecursist(e) en desgewenst met cliënten.\nHet geheel beslaat 4 dagdelen verspreid over 4 maanden. Data zijn in overleg op vrijdagen of maandagochtenden. \nVoorwaarde voor deelname is een individuele proefsessie\, live of via beeldbellen. \nVoor meer informatie: mail naar info@sentir.nl \nMarion van den Boogaard\, Certificerend Coordinator TIFI\, Psychologiepraktijk Sentir\, info@sentir\, www.sentir.nl
URL:https://www.stichtingfocusing.nl/aanbod-item/duocursus-focussen-voor-professionele-hulpverleners/2025-11-07/
LOCATION:Nederland\, Nederland
CATEGORIES:Training voor specifieke groepen
ATTACH;FMTTYPE=image/png:https://www.stichtingfocusing.nl/wp-content/uploads/2024/08/Psychologiepraktijk-Sentir-1.png
ORGANIZER;CN="Marion van den Boogaard":MAILTO:info@sentir.nl
GEO:52.0263009;5.5544309
END:VEVENT
BEGIN:VEVENT
DTSTART;TZID=Europe/Amsterdam:20251003T093000
DTEND;TZID=Europe/Amsterdam:20251003T130000
DTSTAMP:20260422T030728
CREATED:20240814T134437Z
LAST-MODIFIED:20260105T201454Z
UID:10001416-1759483800-1759496400@www.stichtingfocusing.nl
SUMMARY:Duocursus Focussen voor professionele hulpverleners
DESCRIPTION:In deze compacte\, intensieve duocursus Focusing (2 deelnemers) leer je zelf Focussen en krijg je vele handvatten om het toe te passen binnen je werk als professioneel hulpverlener of begeleider. \nDe cursus bied een helder theoretisch kader en vele praktische oefeningen die in de cursusmap en het ondersteunend boek zijn terug te vinden.  Na afsluiting van de cursus ontvang je een certificaat.\nJe oefent alleen\, met je medecursist(e) en desgewenst met cliënten.\nHet geheel beslaat 4 dagdelen verspreid over 4 maanden. Data zijn in overleg op vrijdagen of maandagochtenden. \nVoorwaarde voor deelname is een individuele proefsessie\, live of via beeldbellen. \nVoor meer informatie: mail naar info@sentir.nl \nMarion van den Boogaard\, Certificerend Coordinator TIFI\, Psychologiepraktijk Sentir\, info@sentir\, www.sentir.nl
URL:https://www.stichtingfocusing.nl/aanbod-item/duocursus-focussen-voor-professionele-hulpverleners/2025-10-03/
LOCATION:Nederland\, Nederland
CATEGORIES:Training voor specifieke groepen
ATTACH;FMTTYPE=image/png:https://www.stichtingfocusing.nl/wp-content/uploads/2024/08/Psychologiepraktijk-Sentir-1.png
ORGANIZER;CN="Marion van den Boogaard":MAILTO:info@sentir.nl
GEO:52.0263009;5.5544309
END:VEVENT
BEGIN:VEVENT
DTSTART;TZID=Europe/Amsterdam:20250929T103000
DTEND;TZID=Europe/Amsterdam:20250929T113000
DTSTAMP:20260422T030728
CREATED:20250828T171436Z
LAST-MODIFIED:20250828T171621Z
UID:10001253-1759141800-1759145400@www.stichtingfocusing.nl
SUMMARY:September Focusing maand: gratis proefsessie online
DESCRIPTION:GRATIS PROEFSESSIE FOCUSING ONLINE \nIn september bied ik 3 maal gratis een proefsessie Focusing aan via beeldbellen\, namelijk: 8\, 22 en 29 september\, telkens om 10.30 uur.\nAls je geïnteresseerd bent\, meld je aan en geef aan welke datum je voorkeur heeft. \nMarion van den Boogaard\,\nPsychologiepraktijk Sentir\,\nmarionsentir@gmail.com of info@sentir.nl
URL:https://www.stichtingfocusing.nl/aanbod-item/september-focusing-maand-gratis-proefsessie-online/2025-09-29/
LOCATION:Nederland\, Nederland
ORGANIZER;CN="Marion van den Boogaard":MAILTO:info@sentir.nl
GEO:52.0263009;5.5544309
END:VEVENT
BEGIN:VEVENT
DTSTART;TZID=Europe/Amsterdam:20250922T103000
DTEND;TZID=Europe/Amsterdam:20250922T113000
DTSTAMP:20260422T030728
CREATED:20250828T171436Z
LAST-MODIFIED:20250828T171621Z
UID:10001252-1758537000-1758540600@www.stichtingfocusing.nl
SUMMARY:September Focusing maand: gratis proefsessie online
DESCRIPTION:GRATIS PROEFSESSIE FOCUSING ONLINE \nIn september bied ik 3 maal gratis een proefsessie Focusing aan via beeldbellen\, namelijk: 8\, 22 en 29 september\, telkens om 10.30 uur.\nAls je geïnteresseerd bent\, meld je aan en geef aan welke datum je voorkeur heeft. \nMarion van den Boogaard\,\nPsychologiepraktijk Sentir\,\nmarionsentir@gmail.com of info@sentir.nl
URL:https://www.stichtingfocusing.nl/aanbod-item/september-focusing-maand-gratis-proefsessie-online/2025-09-22/
LOCATION:Nederland\, Nederland
ORGANIZER;CN="Marion van den Boogaard":MAILTO:info@sentir.nl
GEO:52.0263009;5.5544309
END:VEVENT
BEGIN:VEVENT
DTSTART;TZID=Europe/Amsterdam:20250908T103000
DTEND;TZID=Europe/Amsterdam:20250908T113000
DTSTAMP:20260422T030728
CREATED:20250828T171436Z
LAST-MODIFIED:20250828T171621Z
UID:10001251-1757327400-1757331000@www.stichtingfocusing.nl
SUMMARY:September Focusing maand: gratis proefsessie online
DESCRIPTION:GRATIS PROEFSESSIE FOCUSING ONLINE \nIn september bied ik 3 maal gratis een proefsessie Focusing aan via beeldbellen\, namelijk: 8\, 22 en 29 september\, telkens om 10.30 uur.\nAls je geïnteresseerd bent\, meld je aan en geef aan welke datum je voorkeur heeft. \nMarion van den Boogaard\,\nPsychologiepraktijk Sentir\,\nmarionsentir@gmail.com of info@sentir.nl
URL:https://www.stichtingfocusing.nl/aanbod-item/september-focusing-maand-gratis-proefsessie-online/2025-09-08/
LOCATION:Nederland\, Nederland
ORGANIZER;CN="Marion van den Boogaard":MAILTO:info@sentir.nl
GEO:52.0263009;5.5544309
END:VEVENT
BEGIN:VEVENT
DTSTART;TZID=Europe/Amsterdam:20250905T093000
DTEND;TZID=Europe/Amsterdam:20250905T130000
DTSTAMP:20260422T030728
CREATED:20240814T134437Z
LAST-MODIFIED:20260105T201454Z
UID:10001415-1757064600-1757077200@www.stichtingfocusing.nl
SUMMARY:Duocursus Focussen voor professionele hulpverleners
DESCRIPTION:In deze compacte\, intensieve duocursus Focusing (2 deelnemers) leer je zelf Focussen en krijg je vele handvatten om het toe te passen binnen je werk als professioneel hulpverlener of begeleider. \nDe cursus bied een helder theoretisch kader en vele praktische oefeningen die in de cursusmap en het ondersteunend boek zijn terug te vinden.  Na afsluiting van de cursus ontvang je een certificaat.\nJe oefent alleen\, met je medecursist(e) en desgewenst met cliënten.\nHet geheel beslaat 4 dagdelen verspreid over 4 maanden. Data zijn in overleg op vrijdagen of maandagochtenden. \nVoorwaarde voor deelname is een individuele proefsessie\, live of via beeldbellen. \nVoor meer informatie: mail naar info@sentir.nl \nMarion van den Boogaard\, Certificerend Coordinator TIFI\, Psychologiepraktijk Sentir\, info@sentir\, www.sentir.nl
URL:https://www.stichtingfocusing.nl/aanbod-item/duocursus-focussen-voor-professionele-hulpverleners/2025-09-05/
LOCATION:Nederland\, Nederland
CATEGORIES:Training voor specifieke groepen
ATTACH;FMTTYPE=image/png:https://www.stichtingfocusing.nl/wp-content/uploads/2024/08/Psychologiepraktijk-Sentir-1.png
ORGANIZER;CN="Marion van den Boogaard":MAILTO:info@sentir.nl
GEO:52.0263009;5.5544309
END:VEVENT
BEGIN:VEVENT
DTSTART;TZID=Europe/Amsterdam:20250801T093000
DTEND;TZID=Europe/Amsterdam:20250801T130000
DTSTAMP:20260422T030728
CREATED:20240814T134437Z
LAST-MODIFIED:20260105T201454Z
UID:10001414-1754040600-1754053200@www.stichtingfocusing.nl
SUMMARY:Duocursus Focussen voor professionele hulpverleners
DESCRIPTION:In deze compacte\, intensieve duocursus Focusing (2 deelnemers) leer je zelf Focussen en krijg je vele handvatten om het toe te passen binnen je werk als professioneel hulpverlener of begeleider. \nDe cursus bied een helder theoretisch kader en vele praktische oefeningen die in de cursusmap en het ondersteunend boek zijn terug te vinden.  Na afsluiting van de cursus ontvang je een certificaat.\nJe oefent alleen\, met je medecursist(e) en desgewenst met cliënten.\nHet geheel beslaat 4 dagdelen verspreid over 4 maanden. Data zijn in overleg op vrijdagen of maandagochtenden. \nVoorwaarde voor deelname is een individuele proefsessie\, live of via beeldbellen. \nVoor meer informatie: mail naar info@sentir.nl \nMarion van den Boogaard\, Certificerend Coordinator TIFI\, Psychologiepraktijk Sentir\, info@sentir\, www.sentir.nl
URL:https://www.stichtingfocusing.nl/aanbod-item/duocursus-focussen-voor-professionele-hulpverleners/2025-08-01/
LOCATION:Nederland\, Nederland
CATEGORIES:Training voor specifieke groepen
ATTACH;FMTTYPE=image/png:https://www.stichtingfocusing.nl/wp-content/uploads/2024/08/Psychologiepraktijk-Sentir-1.png
ORGANIZER;CN="Marion van den Boogaard":MAILTO:info@sentir.nl
GEO:52.0263009;5.5544309
END:VEVENT
BEGIN:VEVENT
DTSTART;TZID=Europe/Amsterdam:20250704T093000
DTEND;TZID=Europe/Amsterdam:20250704T130000
DTSTAMP:20260422T030728
CREATED:20240814T134437Z
LAST-MODIFIED:20260105T201454Z
UID:10001413-1751621400-1751634000@www.stichtingfocusing.nl
SUMMARY:Duocursus Focussen voor professionele hulpverleners
DESCRIPTION:In deze compacte\, intensieve duocursus Focusing (2 deelnemers) leer je zelf Focussen en krijg je vele handvatten om het toe te passen binnen je werk als professioneel hulpverlener of begeleider. \nDe cursus bied een helder theoretisch kader en vele praktische oefeningen die in de cursusmap en het ondersteunend boek zijn terug te vinden.  Na afsluiting van de cursus ontvang je een certificaat.\nJe oefent alleen\, met je medecursist(e) en desgewenst met cliënten.\nHet geheel beslaat 4 dagdelen verspreid over 4 maanden. Data zijn in overleg op vrijdagen of maandagochtenden. \nVoorwaarde voor deelname is een individuele proefsessie\, live of via beeldbellen. \nVoor meer informatie: mail naar info@sentir.nl \nMarion van den Boogaard\, Certificerend Coordinator TIFI\, Psychologiepraktijk Sentir\, info@sentir\, www.sentir.nl
URL:https://www.stichtingfocusing.nl/aanbod-item/duocursus-focussen-voor-professionele-hulpverleners/2025-07-04/
LOCATION:Nederland\, Nederland
CATEGORIES:Training voor specifieke groepen
ATTACH;FMTTYPE=image/png:https://www.stichtingfocusing.nl/wp-content/uploads/2024/08/Psychologiepraktijk-Sentir-1.png
ORGANIZER;CN="Marion van den Boogaard":MAILTO:info@sentir.nl
GEO:52.0263009;5.5544309
END:VEVENT
BEGIN:VEVENT
DTSTART;TZID=Europe/Amsterdam:20250606T093000
DTEND;TZID=Europe/Amsterdam:20250606T130000
DTSTAMP:20260422T030728
CREATED:20240814T134437Z
LAST-MODIFIED:20260105T201454Z
UID:10001412-1749202200-1749214800@www.stichtingfocusing.nl
SUMMARY:Duocursus Focussen voor professionele hulpverleners
DESCRIPTION:In deze compacte\, intensieve duocursus Focusing (2 deelnemers) leer je zelf Focussen en krijg je vele handvatten om het toe te passen binnen je werk als professioneel hulpverlener of begeleider. \nDe cursus bied een helder theoretisch kader en vele praktische oefeningen die in de cursusmap en het ondersteunend boek zijn terug te vinden.  Na afsluiting van de cursus ontvang je een certificaat.\nJe oefent alleen\, met je medecursist(e) en desgewenst met cliënten.\nHet geheel beslaat 4 dagdelen verspreid over 4 maanden. Data zijn in overleg op vrijdagen of maandagochtenden. \nVoorwaarde voor deelname is een individuele proefsessie\, live of via beeldbellen. \nVoor meer informatie: mail naar info@sentir.nl \nMarion van den Boogaard\, Certificerend Coordinator TIFI\, Psychologiepraktijk Sentir\, info@sentir\, www.sentir.nl
URL:https://www.stichtingfocusing.nl/aanbod-item/duocursus-focussen-voor-professionele-hulpverleners/2025-06-06/
LOCATION:Nederland\, Nederland
CATEGORIES:Training voor specifieke groepen
ATTACH;FMTTYPE=image/png:https://www.stichtingfocusing.nl/wp-content/uploads/2024/08/Psychologiepraktijk-Sentir-1.png
ORGANIZER;CN="Marion van den Boogaard":MAILTO:info@sentir.nl
GEO:52.0263009;5.5544309
END:VEVENT
BEGIN:VEVENT
DTSTART;TZID=Europe/Amsterdam:20250502T093000
DTEND;TZID=Europe/Amsterdam:20250502T130000
DTSTAMP:20260422T030728
CREATED:20240814T134437Z
LAST-MODIFIED:20260105T201454Z
UID:10001411-1746178200-1746190800@www.stichtingfocusing.nl
SUMMARY:Duocursus Focussen voor professionele hulpverleners
DESCRIPTION:In deze compacte\, intensieve duocursus Focusing (2 deelnemers) leer je zelf Focussen en krijg je vele handvatten om het toe te passen binnen je werk als professioneel hulpverlener of begeleider. \nDe cursus bied een helder theoretisch kader en vele praktische oefeningen die in de cursusmap en het ondersteunend boek zijn terug te vinden.  Na afsluiting van de cursus ontvang je een certificaat.\nJe oefent alleen\, met je medecursist(e) en desgewenst met cliënten.\nHet geheel beslaat 4 dagdelen verspreid over 4 maanden. Data zijn in overleg op vrijdagen of maandagochtenden. \nVoorwaarde voor deelname is een individuele proefsessie\, live of via beeldbellen. \nVoor meer informatie: mail naar info@sentir.nl \nMarion van den Boogaard\, Certificerend Coordinator TIFI\, Psychologiepraktijk Sentir\, info@sentir\, www.sentir.nl
URL:https://www.stichtingfocusing.nl/aanbod-item/duocursus-focussen-voor-professionele-hulpverleners/2025-05-02/
LOCATION:Nederland\, Nederland
CATEGORIES:Training voor specifieke groepen
ATTACH;FMTTYPE=image/png:https://www.stichtingfocusing.nl/wp-content/uploads/2024/08/Psychologiepraktijk-Sentir-1.png
ORGANIZER;CN="Marion van den Boogaard":MAILTO:info@sentir.nl
GEO:52.0263009;5.5544309
END:VEVENT
END:VCALENDAR