BEGIN:VCALENDAR
VERSION:2.0
PRODID:-//Stichting Focusing Nederland - ECPv6.15.13//NONSGML v1.0//EN
CALSCALE:GREGORIAN
METHOD:PUBLISH
X-ORIGINAL-URL:https://www.stichtingfocusing.nl
X-WR-CALDESC:Evenementen voor Stichting Focusing Nederland
REFRESH-INTERVAL;VALUE=DURATION:PT1H
X-Robots-Tag:noindex
X-PUBLISHED-TTL:PT1H
BEGIN:VTIMEZONE
TZID:Europe/Amsterdam
BEGIN:DAYLIGHT
TZOFFSETFROM:+0100
TZOFFSETTO:+0200
TZNAME:CEST
DTSTART:20240331T010000
END:DAYLIGHT
BEGIN:STANDARD
TZOFFSETFROM:+0200
TZOFFSETTO:+0100
TZNAME:CET
DTSTART:20241027T010000
END:STANDARD
BEGIN:DAYLIGHT
TZOFFSETFROM:+0100
TZOFFSETTO:+0200
TZNAME:CEST
DTSTART:20250330T010000
END:DAYLIGHT
BEGIN:STANDARD
TZOFFSETFROM:+0200
TZOFFSETTO:+0100
TZNAME:CET
DTSTART:20251026T010000
END:STANDARD
BEGIN:DAYLIGHT
TZOFFSETFROM:+0100
TZOFFSETTO:+0200
TZNAME:CEST
DTSTART:20260329T010000
END:DAYLIGHT
BEGIN:STANDARD
TZOFFSETFROM:+0200
TZOFFSETTO:+0100
TZNAME:CET
DTSTART:20261025T010000
END:STANDARD
BEGIN:DAYLIGHT
TZOFFSETFROM:+0100
TZOFFSETTO:+0200
TZNAME:CEST
DTSTART:20270328T010000
END:DAYLIGHT
BEGIN:STANDARD
TZOFFSETFROM:+0200
TZOFFSETTO:+0100
TZNAME:CET
DTSTART:20271031T010000
END:STANDARD
END:VTIMEZONE
BEGIN:VEVENT
DTSTART;TZID=Europe/Amsterdam:20260124T100000
DTEND;TZID=Europe/Amsterdam:20260124T160000
DTSTAMP:20260422T124610
CREATED:20251010T130148Z
LAST-MODIFIED:20251010T130344Z
UID:10001283-1769248800-1769270400@www.stichtingfocusing.nl
SUMMARY:5 zaterdagen basiscursus Focusing
DESCRIPTION:Focusing\, basiscursus\nStap voor stap leer je het Focusing proces. \nJe maakt kennis met de innerlijke focussende houding en de zes bewegingen van Gendlin. Je ervaart wat een Felt sense is\, hoe die uit te nodigen\, en hoe die gezelschap te houden zodat innerlijke verandering kan ontstaan. Na afloop kun je zelfstandig Focussen. Je krijgt een certificaat Focusing level 1 & 2.\nData: 24 jan\, 7 feb\, 21 feb\, 7mrt en 28 mrt.\nTijd 10.00-16.00\nLocatie Zeeburgereiland\, Amsterdam
URL:https://www.stichtingfocusing.nl/aanbod-item/5-zaterdagen-basiscursus-focusing/
LOCATION:Amsterdam\, Zeeburgereiland
ATTACH;FMTTYPE=image/jpeg:https://www.stichtingfocusing.nl/wp-content/uploads/2025/10/IMG_3237-1.jpg
ORGANIZER;CN="Machiel Swillens%2C Focusing Nieuwe Diep":MAILTO:machielswillens@gmail.com
END:VEVENT
BEGIN:VEVENT
DTSTART;TZID=Europe/Amsterdam:20250906T130000
DTEND;TZID=Europe/Amsterdam:20250906T160000
DTSTAMP:20260422T124610
CREATED:20250815T124826Z
LAST-MODIFIED:20250815T124826Z
UID:10001245-1757163600-1757174400@www.stichtingfocusing.nl
SUMMARY:Open Focusing middag Amsterdam\, September Focusing Maand
DESCRIPTION:Ben je benieuwd naar Focusing\, of heb je al wat Focusing ervaring en smaakt dat naar meer? Dan is deze Open Focusing middag wellicht iets voor jou.\nJe gaat het Focusing proces ervaren\, merken wat het doet om echt open te luisteren\, en ook de achtergrond van Focusing komt aan bod. In de loop van de middag  is er gelegenheid tot uitwisselen en vragen stellen.\nToegang: gratis\nAanmelden: stuur me een bericht via mail of Whatsapp
URL:https://www.stichtingfocusing.nl/aanbod-item/open-focusing-middag-amsterdam-september-focusing-maand/
LOCATION:Nederland\, Nederland
ATTACH;FMTTYPE=image/jpeg:https://www.stichtingfocusing.nl/wp-content/uploads/2025/08/IMG_3236-2.jpg
ORGANIZER;CN="Machiel Swillens%2C Focusing Nieuwe Diep":MAILTO:machielswillens@gmail.com
GEO:52.0263009;5.5544309
END:VEVENT
END:VCALENDAR