BEGIN:VCALENDAR
VERSION:2.0
PRODID:-//Stichting Focusing Nederland - ECPv6.15.13//NONSGML v1.0//EN
CALSCALE:GREGORIAN
METHOD:PUBLISH
X-ORIGINAL-URL:https://www.stichtingfocusing.nl
X-WR-CALDESC:Evenementen voor Stichting Focusing Nederland
REFRESH-INTERVAL;VALUE=DURATION:PT1H
X-Robots-Tag:noindex
X-PUBLISHED-TTL:PT1H
BEGIN:VTIMEZONE
TZID:Europe/Amsterdam
BEGIN:DAYLIGHT
TZOFFSETFROM:+0100
TZOFFSETTO:+0200
TZNAME:CEST
DTSTART:20240331T010000
END:DAYLIGHT
BEGIN:STANDARD
TZOFFSETFROM:+0200
TZOFFSETTO:+0100
TZNAME:CET
DTSTART:20241027T010000
END:STANDARD
BEGIN:DAYLIGHT
TZOFFSETFROM:+0100
TZOFFSETTO:+0200
TZNAME:CEST
DTSTART:20250330T010000
END:DAYLIGHT
BEGIN:STANDARD
TZOFFSETFROM:+0200
TZOFFSETTO:+0100
TZNAME:CET
DTSTART:20251026T010000
END:STANDARD
BEGIN:DAYLIGHT
TZOFFSETFROM:+0100
TZOFFSETTO:+0200
TZNAME:CEST
DTSTART:20260329T010000
END:DAYLIGHT
BEGIN:STANDARD
TZOFFSETFROM:+0200
TZOFFSETTO:+0100
TZNAME:CET
DTSTART:20261025T010000
END:STANDARD
END:VTIMEZONE
BEGIN:VEVENT
DTSTART;VALUE=DATE:20250531
DTEND;VALUE=DATE:20250601
DTSTAMP:20260424T135959
CREATED:20241228T153119Z
LAST-MODIFIED:20250312T100301Z
UID:10000664-1748649600-1748735999@www.stichtingfocusing.nl
SUMMARY:Tweedaagse FOCUSING IN WOORD\, BEELD EN BEWEGING
DESCRIPTION:31 mei en 1 juni voor  iedereen die focusing gebruikt of wil gebruiken in  zijn of haar leven.\nDe “felt sense” behelst een non-verbaal weten. Over jou\, over jouw leven\, over wat jij als probleem ervaart\, over hoe jij in de wereld bestaat en kunt bestaan\, hoe je ten volle kunt leven. De uitdrukkingsvorm van dit niet weten kan via beeld\, woord en/of beweging. Alle drie vertegenwoordigen ze een eigen dimensie (en specifieke kwaliteit). In de aandachtige uiting komt er een moment waarin de felt sense zich ontvouwt in het veld van het niet weten en een weten wordt. Je voelt dat er een verschuiving ontstaat van binnen. Een oude wond wordt geheeld\, een intuïtieve ingeving krijgt bodem – je leven kan verder\, op een betere manier.\nBekendheid (basis)  met focusing of lichaamsgericht werken is een voorwaarde.
URL:https://www.stichtingfocusing.nl/aanbod-item/verdiepingsdag-focussen-in-het-donker-jouw-donker/
LOCATION:Aaffien de Vries en Bahar Farschi Jamshidabady in Cothen
CATEGORIES:Bijzondere activiteit
ATTACH;FMTTYPE=image/jpeg:https://www.stichtingfocusing.nl/wp-content/uploads/2024/12/dansplaatje.jpg
ORGANIZER;CN="Focuscentrum Aaffien de Vries":MAILTO:aaffien@focuscentrumadv.nl
GEO:51.9981708;5.3080065
END:VEVENT
END:VCALENDAR