BEGIN:VCALENDAR
VERSION:2.0
PRODID:-//Stichting Focusing Nederland - ECPv6.15.13//NONSGML v1.0//EN
CALSCALE:GREGORIAN
METHOD:PUBLISH
X-ORIGINAL-URL:https://www.stichtingfocusing.nl
X-WR-CALDESC:Evenementen voor Stichting Focusing Nederland
REFRESH-INTERVAL;VALUE=DURATION:PT1H
X-Robots-Tag:noindex
X-PUBLISHED-TTL:PT1H
BEGIN:VTIMEZONE
TZID:Europe/Amsterdam
BEGIN:DAYLIGHT
TZOFFSETFROM:+0100
TZOFFSETTO:+0200
TZNAME:CEST
DTSTART:20250330T010000
END:DAYLIGHT
BEGIN:STANDARD
TZOFFSETFROM:+0200
TZOFFSETTO:+0100
TZNAME:CET
DTSTART:20251026T010000
END:STANDARD
BEGIN:DAYLIGHT
TZOFFSETFROM:+0100
TZOFFSETTO:+0200
TZNAME:CEST
DTSTART:20260329T010000
END:DAYLIGHT
BEGIN:STANDARD
TZOFFSETFROM:+0200
TZOFFSETTO:+0100
TZNAME:CET
DTSTART:20261025T010000
END:STANDARD
BEGIN:DAYLIGHT
TZOFFSETFROM:+0100
TZOFFSETTO:+0200
TZNAME:CEST
DTSTART:20270328T010000
END:DAYLIGHT
BEGIN:STANDARD
TZOFFSETFROM:+0200
TZOFFSETTO:+0100
TZNAME:CET
DTSTART:20271031T010000
END:STANDARD
END:VTIMEZONE
BEGIN:VEVENT
DTSTART;TZID=Europe/Amsterdam:20260912T103000
DTEND;TZID=Europe/Amsterdam:20260912T163000
DTSTAMP:20260423T102355
CREATED:20260110T081429Z
LAST-MODIFIED:20260110T081429Z
UID:10001485-1789209000-1789230600@www.stichtingfocusing.nl
SUMMARY:Vervolgtraining Focusing
DESCRIPTION:Deze vervolgtraining Focusing  is ontwikkeld door de vraag naar verdieping en verbinding van Focusing in het werkveld van therapeuten/coaches die ervarings- of lichaamsgericht werken en eerder een Focusing basistraining [niveau 1 en 2] of gelijkwaardig hebben gevolgd. Het is het tweede deel van de jaartraining die start op 21 februari.\nJe leert o.a. \n• overgangen te vinden vanuit een gesprek naar focussende begeleiding\n• toepassingen om cliënten stapsgewijs vertrouwd te maken met Focusing-vaardigheden\n• in welke fase van het proces aanraken al dan niet bevorderlijk is (massage- of haptotherapeuten)\n• verbaal het proces te begeleiden waarbij het accent ligt op de relatie cliënt en Felt Sense\n• je eigen valkuilen beter kennen\n• je presentie van aanwezig zijn met open onvoorwaardelijke aandacht verder te verankeren\nErvaringen die je opdoet in je eigen praktijk koppel je terug tijdens de lesdag. Je neemt aan het eind van de module een sessie op die we bespreken (optioneel). Oefensessies onderling zorgen voor een verdere verdieping en verfijning van je vaardigheden als focusser. Deze training omvat 25 contacturen in een kleine groep met vakgenoten inclusief een individuele sessie en gesprek over de integratie van Focusing in je werk. Het erkend certificaat geeft toegang tot het volgen van de Focusing Begeleidersopleiding. Live lesdagen worden afgewisseld met online ochtenden.
URL:https://www.stichtingfocusing.nl/aanbod-item/vervolgtraining-focusing/
LOCATION:Dordrecht\, Spirea 9\, Spirea 9\, Dordrecht\, 3317 JP\, Nederland
CATEGORIES:Training voor specifieke groepen,Vervolgopleiding
ATTACH;FMTTYPE=image/png:https://www.stichtingfocusing.nl/wp-content/uploads/2026/01/Logo2023vs3.png
ORGANIZER;CN="Esther Wijs":MAILTO:essenza2009@live.nl
GEO:51.7919296;4.6717336
X-APPLE-STRUCTURED-LOCATION;VALUE=URI;X-ADDRESS=Dordrecht Spirea 9 Spirea 9 Dordrecht 3317 JP Nederland;X-APPLE-RADIUS=500;X-TITLE=Spirea 9:geo:4.6717336,51.7919296
END:VEVENT
BEGIN:VEVENT
DTSTART;TZID=Europe/Amsterdam:20260918T110000
DTEND;TZID=Europe/Amsterdam:20260920T005900
DTSTAMP:20260423T102355
CREATED:20260218T105637Z
LAST-MODIFIED:20260218T110543Z
UID:10001534-1789729200-1789865940@www.stichtingfocusing.nl
SUMMARY:Menopause & The Sacred Feminine – Focusing Retreat
DESCRIPTION:18 – 20 September 2026 \nTobar Mhuire Conference and Retreat Centre \nDownpatrick\, N. Ireland \nOf je nu in de perimenopauze of postmenopauze bent\, deze driedaagse retraite in het hart van het Ierse platteland is voor jou. \nDe menopauze of overgang kan je gevoelens van disbalans of vervreemding geven. Veel vrouwen ervaren daarnaast een gebrek aan energie. \nMaar wat als… \n   –  De energie die je nodig hebt\, in jezelf\, hier en nu aanwezig is?\n   –  Het enige dat nodig is\, is dat je de veranderingen bewust en met vertrouwen toelaat? \nDe menopauze is in wezen een uitnodiging om je eigen persoonlijke ervaring samen te voegen met de diepe wijsheid en heiligheid die in deze specifiek vrouwelijke overgangsfase verborgen zit. Om een manier van zijn te ontdekken die past bij jou. \nHet retraiteprogramma omvat aspecten van Wholebody Focusing\, Bio-Spiritual Focusing\, Keltische mythologie\, kunstzinnige therapie en natuurbeleving. \nEen reis naar de heilige bron in ieder van ons\, de bron van het leven zelf… \nKosten: \nPer persoon (eenpersoons kamer) – £450 \nPer persoon (tweepersoons kamer) – £425 \nVoor aanmelding en meer informatie kun je contact opnemen via sacredfemininefocus@gmail.com.\nKijk ook eens op de Ierse Focusing website.
URL:https://www.stichtingfocusing.nl/aanbod-item/menopause-the-sacred-feminine-focusing-retreat-2/
LOCATION:Downpatrick\, Ireland
CATEGORIES:Bijzondere activiteit
ATTACH;FMTTYPE=image/jpeg:https://www.stichtingfocusing.nl/wp-content/uploads/2026/02/20260216_111414-1-scaled.jpg
ORGANIZER;CN="Rond de Levenslijn":MAILTO:werkplaatsronddelevenslijn@gmail.com
GEO:53.7797554;-7.3055309
END:VEVENT
BEGIN:VEVENT
DTSTART;TZID=Europe/Amsterdam:20261009T130000
DTEND;TZID=Europe/Amsterdam:20261009T170000
DTSTAMP:20260423T102356
CREATED:20260217T143940Z
LAST-MODIFIED:20260217T143940Z
UID:10001532-1791550800-1791565200@www.stichtingfocusing.nl
SUMMARY:Masterclass Dynamic Expressive Focusing
DESCRIPTION:Voor professionals in begeleiding\, therapie en onderwijs \n3-dagdelen training \nErvaringsgericht leren – Persoonlijke verdieping – Praktische integratie \nBen jij professioneel begeleider\, therapeut of docent en wil je jouw begeleiding verdiepen met Focusing en creatieve werkvormen? In deze intensieve masterclass ontdek je hoe je cliënten – jong én oud – helpt om van binnenuit beweging te brengen in vastgelopen processen. Je leert hoe je met een Focussende basishouding\, subtiele interventies en lichaamsgerichte aandacht duurzame verandering ondersteunt.
URL:https://www.stichtingfocusing.nl/aanbod-item/masterclass-dynamic-expressive-focusing-2/
LOCATION:Online\, Selecteer een land:
CATEGORIES:Training voor specifieke groepen
ATTACH;FMTTYPE=image/png:https://www.stichtingfocusing.nl/wp-content/uploads/2026/02/DEF-masterclass.png
ORGANIZER;CN="Harriet Teeuw":MAILTO:hteeuw@xs4all.nl
GEO:29.5671424;-95.683113
END:VEVENT
BEGIN:VEVENT
DTSTART;TZID=Europe/Amsterdam:20261023T190000
DTEND;TZID=Europe/Amsterdam:20261023T190000
DTSTAMP:20260423T102356
CREATED:20250701T123810Z
LAST-MODIFIED:20251206T084123Z
UID:10001364-1792782000-1792782000@www.stichtingfocusing.nl
SUMMARY:Weekend Focusing en Sjamanisme
DESCRIPTION:Focusing en het Groot Mysterie \nTijdens dit bijzondere weekend brengen we Focusing en Sjamanisme samen om een nieuw perspektief uit te nodigen op jouw levenspad. \nHoe zou het zijn als er niets bereikt hoeft te worden? Als alles er mag zijn\, ook de weerstand\, het verlangen en de pijn. Als je je kunt overgeven aan het leven  precies zoals het door je heen stroomt. \nAls je het trekken en duwen\, het willen veranderen kunt loslaten en zonder oordeel\, vol verwondering in de ruimte en diepte van de be-leving kunt zijn. Als aanschouwer en belever tegelijk. En van daaruit doet wat je ingegeven wordt. \nDit is waar Focusing en Sjamanisme elkaar raken. \nIn de diepere lagen van je innerlijk vind je je ware zelf.  Met de handvatten die Focusing aanreikt\, kun je luisteren naar de wijsheid die zich uitdrukt via je lichaamssensaties. \nDan ontmoet je het Groot Mysterie\, het veld van niet-weten… De oorspronkelijke bron van waaruit het leven opwelt zoals het bedoeld is. \n Ervaring met Focusing is een pré\, maar geen noodzakelijkheid. \nHet weekend duurt van vrijdag 23-10  19.00 tot zondag 25-10  15.30\nHet vindt plaats in groepenverblijf de Elegast op voormalig klooster De Refter in Ubbergen (Gld)\nHet is inclusief overnachtingen en maaltijden.
URL:https://www.stichtingfocusing.nl/aanbod-item/weekend-focusing-en-sjamanisme/2026-10-23/
LOCATION:Refter Ubbergen\, Rijksstraatweg\, Ubbergen\, Gelderland\, 6574 AC\, Netherlands
CATEGORIES:Basistraining,Bijzondere activiteit
ATTACH;FMTTYPE=image/jpeg:https://www.stichtingfocusing.nl/wp-content/uploads/2025/07/WhatsApp-Image-2025-07-30-at-14.06.37.jpeg
ORGANIZER;CN="Saskia Kimman":MAILTO:saskiakimman@hotmail.com
GEO:51.8345859;5.9054905
X-APPLE-STRUCTURED-LOCATION;VALUE=URI;X-ADDRESS=Refter Ubbergen Rijksstraatweg Ubbergen Gelderland 6574 AC Netherlands;X-APPLE-RADIUS=500;X-TITLE=Rijksstraatweg:geo:5.9054905,51.8345859
END:VEVENT
BEGIN:VEVENT
DTSTART;TZID=Europe/Amsterdam:20261024T090000
DTEND;TZID=Europe/Amsterdam:20261024T220000
DTSTAMP:20260423T102356
CREATED:20250701T123810Z
LAST-MODIFIED:20251206T084123Z
UID:10001365-1792832400-1792879200@www.stichtingfocusing.nl
SUMMARY:Weekend Focusing en Sjamanisme
DESCRIPTION:Focusing en het Groot Mysterie \nTijdens dit bijzondere weekend brengen we Focusing en Sjamanisme samen om een nieuw perspektief uit te nodigen op jouw levenspad. \nHoe zou het zijn als er niets bereikt hoeft te worden? Als alles er mag zijn\, ook de weerstand\, het verlangen en de pijn. Als je je kunt overgeven aan het leven  precies zoals het door je heen stroomt. \nAls je het trekken en duwen\, het willen veranderen kunt loslaten en zonder oordeel\, vol verwondering in de ruimte en diepte van de be-leving kunt zijn. Als aanschouwer en belever tegelijk. En van daaruit doet wat je ingegeven wordt. \nDit is waar Focusing en Sjamanisme elkaar raken. \nIn de diepere lagen van je innerlijk vind je je ware zelf.  Met de handvatten die Focusing aanreikt\, kun je luisteren naar de wijsheid die zich uitdrukt via je lichaamssensaties. \nDan ontmoet je het Groot Mysterie\, het veld van niet-weten… De oorspronkelijke bron van waaruit het leven opwelt zoals het bedoeld is. \n Ervaring met Focusing is een pré\, maar geen noodzakelijkheid. \nHet weekend duurt van vrijdag 23-10  19.00 tot zondag 25-10  15.30\nHet vindt plaats in groepenverblijf de Elegast op voormalig klooster De Refter in Ubbergen (Gld)\nHet is inclusief overnachtingen en maaltijden.
URL:https://www.stichtingfocusing.nl/aanbod-item/weekend-focusing-en-sjamanisme/2026-10-24/
LOCATION:Refter Ubbergen\, Rijksstraatweg\, Ubbergen\, Gelderland\, 6574 AC\, Netherlands
CATEGORIES:Basistraining,Bijzondere activiteit
ATTACH;FMTTYPE=image/jpeg:https://www.stichtingfocusing.nl/wp-content/uploads/2025/07/WhatsApp-Image-2025-07-30-at-14.06.37.jpeg
ORGANIZER;CN="Saskia Kimman":MAILTO:saskiakimman@hotmail.com
GEO:51.8345859;5.9054905
X-APPLE-STRUCTURED-LOCATION;VALUE=URI;X-ADDRESS=Refter Ubbergen Rijksstraatweg Ubbergen Gelderland 6574 AC Netherlands;X-APPLE-RADIUS=500;X-TITLE=Rijksstraatweg:geo:5.9054905,51.8345859
END:VEVENT
BEGIN:VEVENT
DTSTART;TZID=Europe/Amsterdam:20261025T090000
DTEND;TZID=Europe/Amsterdam:20261025T153000
DTSTAMP:20260423T102356
CREATED:20250701T123810Z
LAST-MODIFIED:20251206T084123Z
UID:10001366-1792918800-1792942200@www.stichtingfocusing.nl
SUMMARY:Weekend Focusing en Sjamanisme
DESCRIPTION:Focusing en het Groot Mysterie \nTijdens dit bijzondere weekend brengen we Focusing en Sjamanisme samen om een nieuw perspektief uit te nodigen op jouw levenspad. \nHoe zou het zijn als er niets bereikt hoeft te worden? Als alles er mag zijn\, ook de weerstand\, het verlangen en de pijn. Als je je kunt overgeven aan het leven  precies zoals het door je heen stroomt. \nAls je het trekken en duwen\, het willen veranderen kunt loslaten en zonder oordeel\, vol verwondering in de ruimte en diepte van de be-leving kunt zijn. Als aanschouwer en belever tegelijk. En van daaruit doet wat je ingegeven wordt. \nDit is waar Focusing en Sjamanisme elkaar raken. \nIn de diepere lagen van je innerlijk vind je je ware zelf.  Met de handvatten die Focusing aanreikt\, kun je luisteren naar de wijsheid die zich uitdrukt via je lichaamssensaties. \nDan ontmoet je het Groot Mysterie\, het veld van niet-weten… De oorspronkelijke bron van waaruit het leven opwelt zoals het bedoeld is. \n Ervaring met Focusing is een pré\, maar geen noodzakelijkheid. \nHet weekend duurt van vrijdag 23-10  19.00 tot zondag 25-10  15.30\nHet vindt plaats in groepenverblijf de Elegast op voormalig klooster De Refter in Ubbergen (Gld)\nHet is inclusief overnachtingen en maaltijden.
URL:https://www.stichtingfocusing.nl/aanbod-item/weekend-focusing-en-sjamanisme/2026-10-25/
LOCATION:Refter Ubbergen\, Rijksstraatweg\, Ubbergen\, Gelderland\, 6574 AC\, Netherlands
CATEGORIES:Basistraining,Bijzondere activiteit
ATTACH;FMTTYPE=image/jpeg:https://www.stichtingfocusing.nl/wp-content/uploads/2025/07/WhatsApp-Image-2025-07-30-at-14.06.37.jpeg
ORGANIZER;CN="Saskia Kimman":MAILTO:saskiakimman@hotmail.com
GEO:51.8345859;5.9054905
X-APPLE-STRUCTURED-LOCATION;VALUE=URI;X-ADDRESS=Refter Ubbergen Rijksstraatweg Ubbergen Gelderland 6574 AC Netherlands;X-APPLE-RADIUS=500;X-TITLE=Rijksstraatweg:geo:5.9054905,51.8345859
END:VEVENT
END:VCALENDAR